Package: consensusOV Version: 1.29.0 Command: rm -rf consensusOV.buildbin-libdir && mkdir consensusOV.buildbin-libdir && /Users/biocbuild/BBS/utils/build-universal.sh consensusOV_1.29.0.tar.gz /Library/Frameworks/R.framework/Resources/bin/R consensusOV.buildbin-libdir StartedAt: 2025-02-21 00:25:23 -0500 (Fri, 21 Feb 2025) EndedAt: 2025-02-21 00:26:36 -0500 (Fri, 21 Feb 2025) EllapsedTime: 72.8 seconds RetCode: 0 Status: OK PackageFile: consensusOV_1.29.0.tgz PackageFileSize: 4.523 MiB