Package: consensus Version: 1.25.0 Command: E:\biocbuild\bbs-3.21-bioc\R\bin\R.exe CMD check --no-multiarch --install=check:consensus.install-out.txt --library=E:\biocbuild\bbs-3.21-bioc\R\library --no-vignettes --timings consensus_1.25.0.tar.gz StartedAt: 2025-02-18 23:51:22 -0500 (Tue, 18 Feb 2025) EndedAt: 2025-02-18 23:51:56 -0500 (Tue, 18 Feb 2025) EllapsedTime: 34.0 seconds RetCode: 0 Status: OK CheckDir: consensus.Rcheck Warnings: 0