Package: consensus Version: 1.25.0 Command: /Library/Frameworks/R.framework/Resources/bin/R CMD INSTALL consensus StartedAt: 2025-02-19 15:06:07 -0500 (Wed, 19 Feb 2025) EndedAt: 2025-02-19 15:06:28 -0500 (Wed, 19 Feb 2025) EllapsedTime: 20.6 seconds RetCode: 0 Status: OK