Package: consensus Version: 1.25.0 Command: rm -rf consensus.buildbin-libdir && mkdir consensus.buildbin-libdir && /Users/biocbuild/BBS/utils/build-universal.sh consensus_1.25.0.tar.gz /Library/Frameworks/R.framework/Resources/bin/R consensus.buildbin-libdir StartedAt: 2025-02-18 22:17:36 -0500 (Tue, 18 Feb 2025) EndedAt: 2025-02-18 22:17:38 -0500 (Tue, 18 Feb 2025) EllapsedTime: 2.0 seconds RetCode: 0 Status: OK PackageFile: consensus_1.25.0.tgz PackageFileSize: 1.097 MiB