Package: consICA Version: 2.5.0 Command: E:\biocbuild\bbs-3.21-bioc\R\bin\R.exe CMD INSTALL consICA StartedAt: 2025-02-20 16:09:42 -0500 (Thu, 20 Feb 2025) EndedAt: 2025-02-20 16:10:22 -0500 (Thu, 20 Feb 2025) EllapsedTime: 40.3 seconds RetCode: 0 Status: OK