Package: consICA Version: 2.5.0 Command: E:\biocbuild\bbs-3.21-bioc\R\bin\R.exe CMD check --no-multiarch --install=check:consICA.install-out.txt --library=E:\biocbuild\bbs-3.21-bioc\R\library --no-vignettes --timings consICA_2.5.0.tar.gz StartedAt: 2025-02-21 00:07:23 -0500 (Fri, 21 Feb 2025) EndedAt: 2025-02-21 00:19:39 -0500 (Fri, 21 Feb 2025) EllapsedTime: 736.0 seconds RetCode: 0 Status: OK CheckDir: consICA.Rcheck Warnings: 0