Package: consICA Version: 2.5.0 Command: chmod a+r consICA -R && E:\biocbuild\bbs-3.21-bioc\R\bin\R.exe CMD build --keep-empty-dirs --no-resave-data consICA StartedAt: 2025-02-20 18:05:30 -0500 (Thu, 20 Feb 2025) EndedAt: 2025-02-20 18:06:58 -0500 (Thu, 20 Feb 2025) EllapsedTime: 88.0 seconds RetCode: 0 Status: OK PackageFile: consICA_2.5.0.tar.gz PackageFileSize: 3.206 MiB