Package: consICA Version: 2.5.0 Command: rm -rf consICA.buildbin-libdir && mkdir consICA.buildbin-libdir && E:\biocbuild\bbs-3.21-bioc\R\bin\R.exe CMD INSTALL --build --library=consICA.buildbin-libdir consICA_2.5.0.tar.gz StartedAt: 2025-02-21 07:51:45 -0500 (Fri, 21 Feb 2025) EndedAt: 2025-02-21 07:52:30 -0500 (Fri, 21 Feb 2025) EllapsedTime: 45.2 seconds RetCode: 0 Status: OK PackageFile: consICA_2.5.0.zip PackageFileSize: 2.857 MiB