Package: consICA Version: 2.5.0 Command: /home/biocbuild/bbs-3.21-bioc/R/bin/R CMD build --keep-empty-dirs --no-resave-data consICA StartedAt: 2025-02-20 17:01:47 -0500 (Thu, 20 Feb 2025) EndedAt: 2025-02-20 17:03:15 -0500 (Thu, 20 Feb 2025) EllapsedTime: 88.1 seconds RetCode: 0 Status: OK PackageFile: consICA_2.5.0.tar.gz PackageFileSize: 3.488 MiB