Package: consICA Version: 2.5.0 Command: rm -rf consICA.buildbin-libdir && mkdir consICA.buildbin-libdir && /Users/biocbuild/BBS/utils/build-universal.sh consICA_2.5.0.tar.gz /Library/Frameworks/R.framework/Resources/bin/R consICA.buildbin-libdir StartedAt: 2025-02-21 00:25:25 -0500 (Fri, 21 Feb 2025) EndedAt: 2025-02-21 00:26:10 -0500 (Fri, 21 Feb 2025) EllapsedTime: 45.0 seconds RetCode: 0 Status: OK PackageFile: consICA_2.5.0.tgz PackageFileSize: 3.141 MiB