Package: consICA Version: 2.5.0 Command: /Library/Frameworks/R.framework/Resources/bin/R CMD build --keep-empty-dirs --no-resave-data consICA StartedAt: 2025-02-20 15:59:32 -0500 (Thu, 20 Feb 2025) EndedAt: 2025-02-20 16:00:22 -0500 (Thu, 20 Feb 2025) EllapsedTime: 50.6 seconds RetCode: 0 Status: OK PackageFile: consICA_2.5.0.tar.gz PackageFileSize: 3.492 MiB