Package: condiments Version: 1.15.1 Command: rm -rf condiments.buildbin-libdir && mkdir condiments.buildbin-libdir && E:\biocbuild\bbs-3.21-bioc\R\bin\R.exe CMD INSTALL --build --library=condiments.buildbin-libdir condiments_1.15.1.tar.gz StartedAt: 2025-02-21 07:51:16 -0500 (Fri, 21 Feb 2025) EndedAt: 2025-02-21 07:52:13 -0500 (Fri, 21 Feb 2025) EllapsedTime: 57.2 seconds RetCode: 0 Status: OK PackageFile: condiments_1.15.1.zip PackageFileSize: 1.234 MiB