Package: condiments Version: 1.15.1 Command: /home/biocbuild/bbs-3.21-bioc/R/bin/R CMD build --keep-empty-dirs --no-resave-data condiments StartedAt: 2025-02-20 17:01:23 -0500 (Thu, 20 Feb 2025) EndedAt: 2025-02-20 17:04:33 -0500 (Thu, 20 Feb 2025) EllapsedTime: 189.2 seconds RetCode: 0 Status: OK PackageFile: condiments_1.15.1.tar.gz PackageFileSize: 2 MiB