Package: condiments Version: 1.15.1 Command: /Library/Frameworks/R.framework/Resources/bin/R CMD INSTALL condiments StartedAt: 2025-02-21 15:41:05 -0500 (Fri, 21 Feb 2025) EndedAt: 2025-02-21 15:41:51 -0500 (Fri, 21 Feb 2025) EllapsedTime: 45.9 seconds RetCode: 0 Status: OK