Package: condiments Version: 1.15.1 Command: /Library/Frameworks/R.framework/Resources/bin/R CMD build --keep-empty-dirs --no-resave-data condiments StartedAt: 2025-02-21 16:19:44 -0500 (Fri, 21 Feb 2025) EndedAt: 2025-02-21 16:23:26 -0500 (Fri, 21 Feb 2025) EllapsedTime: 221.7 seconds RetCode: 0 Status: OK PackageFile: condiments_1.15.1.tar.gz PackageFileSize: 2.244 MiB