Package: condiments Version: 1.15.1 Command: /Library/Frameworks/R.framework/Resources/bin/R CMD build --keep-empty-dirs --no-resave-data condiments StartedAt: 2025-02-20 15:58:58 -0500 (Thu, 20 Feb 2025) EndedAt: 2025-02-20 16:00:14 -0500 (Thu, 20 Feb 2025) EllapsedTime: 76.8 seconds RetCode: 0 Status: OK PackageFile: condiments_1.15.1.tar.gz PackageFileSize: 2.251 MiB