Package: compcodeR Version: 1.43.0 Command: chmod a+r compcodeR -R && E:\biocbuild\bbs-3.21-bioc\R\bin\R.exe CMD build --keep-empty-dirs --no-resave-data compcodeR StartedAt: 2025-02-20 18:03:22 -0500 (Thu, 20 Feb 2025) EndedAt: 2025-02-20 18:04:36 -0500 (Thu, 20 Feb 2025) EllapsedTime: 73.3 seconds RetCode: 0 Status: OK PackageFile: compcodeR_1.43.0.tar.gz PackageFileSize: 4.687 MiB