Package: compcodeR Version: 1.43.0 Command: /Library/Frameworks/R.framework/Resources/bin/R CMD check --install=check:compcodeR.install-out.txt --library=/Library/Frameworks/R.framework/Resources/library --no-vignettes --timings compcodeR_1.43.0.tar.gz StartedAt: 2025-02-20 18:38:10 -0500 (Thu, 20 Feb 2025) EndedAt: 2025-02-20 18:41:08 -0500 (Thu, 20 Feb 2025) EllapsedTime: 178.2 seconds RetCode: 0 Status: OK CheckDir: compcodeR.Rcheck Warnings: 0