Package: compcodeR Version: 1.44.0 Command: rm -rf compcodeR.buildbin-libdir && mkdir compcodeR.buildbin-libdir && /Users/biocbuild/BBS/utils/build-universal.sh compcodeR_1.44.0.tar.gz /Library/Frameworks/R.framework/Resources/bin/R compcodeR.buildbin-libdir StartedAt: 2025-09-20 16:54:46 -0400 (Sat, 20 Sep 2025) EndedAt: 2025-09-20 16:55:04 -0400 (Sat, 20 Sep 2025) EllapsedTime: 18.2 seconds RetCode: 0 Status: OK PackageFile: compcodeR_1.44.0.tgz PackageFileSize: 2.702 MiB