Package: compSPOT Version: 1.6.0 Command: /Library/Frameworks/R.framework/Resources/bin/R CMD INSTALL compSPOT StartedAt: 2025-10-13 15:17:24 -0400 (Mon, 13 Oct 2025) EndedAt: 2025-10-13 15:17:59 -0400 (Mon, 13 Oct 2025) EllapsedTime: 34.3 seconds RetCode: 0 Status: OK