Package: compSPOT Version: 1.5.0 Command: /Library/Frameworks/R.framework/Resources/bin/R CMD INSTALL compSPOT StartedAt: 2025-02-19 15:42:15 -0500 (Wed, 19 Feb 2025) EndedAt: 2025-02-19 15:42:22 -0500 (Wed, 19 Feb 2025) EllapsedTime: 7.0 seconds RetCode: 0 Status: OK