Package: compEpiTools Version: 1.41.0 Command: /home/biocbuild/bbs-3.21-bioc/R/bin/R CMD INSTALL compEpiTools StartedAt: 2025-02-20 16:05:37 -0500 (Thu, 20 Feb 2025) EndedAt: 2025-02-20 16:06:35 -0500 (Thu, 20 Feb 2025) EllapsedTime: 57.9 seconds RetCode: 0 Status: OK