Package: compEpiTools Version: 1.41.0 Command: /home/biocbuild/bbs-3.21-bioc/R/bin/R CMD check --install=check:compEpiTools.install-out.txt --library=/home/biocbuild/bbs-3.21-bioc/R/site-library --timings compEpiTools_1.41.0.tar.gz StartedAt: 2025-02-20 20:58:25 -0500 (Thu, 20 Feb 2025) EndedAt: 2025-02-20 21:05:55 -0500 (Thu, 20 Feb 2025) EllapsedTime: 449.7 seconds RetCode: 0 Status: OK CheckDir: compEpiTools.Rcheck Warnings: 0