Package: compEpiTools Version: 1.41.0 Command: /home/biocbuild/bbs-3.21-bioc/R/bin/R CMD build --keep-empty-dirs --no-resave-data compEpiTools StartedAt: 2025-02-19 16:45:01 -0500 (Wed, 19 Feb 2025) EndedAt: 2025-02-19 16:46:27 -0500 (Wed, 19 Feb 2025) EllapsedTime: 86.1 seconds RetCode: 0 Status: OK PackageFile: compEpiTools_1.41.0.tar.gz PackageFileSize: 2.166 MiB