Package: compEpiTools Version: 1.42.0 Command: /home/biocbuild/R/R/bin/R CMD INSTALL compEpiTools StartedAt: 2025-10-13 21:05:44 -0000 (Mon, 13 Oct 2025) EndedAt: 2025-10-13 21:07:07 -0000 (Mon, 13 Oct 2025) EllapsedTime: 83.3 seconds RetCode: 0 Status: OK