Package: compEpiTools Version: 1.42.0 Command: /home/biocbuild/R/R/bin/R CMD build --keep-empty-dirs --no-resave-data compEpiTools StartedAt: 2025-10-13 23:48:25 -0000 (Mon, 13 Oct 2025) EndedAt: 2025-10-13 23:50:29 -0000 (Mon, 13 Oct 2025) EllapsedTime: 124.0 seconds RetCode: 0 Status: OK PackageFile: compEpiTools_1.42.0.tar.gz PackageFileSize: 2.161 MiB