Package: combi Version: 1.19.0 Command: E:\biocbuild\bbs-3.21-bioc\R\bin\R.exe CMD check --no-multiarch --install=check:combi.install-out.txt --library=E:\biocbuild\bbs-3.21-bioc\R\library --no-vignettes --timings combi_1.19.0.tar.gz StartedAt: 2025-02-21 00:02:55 -0500 (Fri, 21 Feb 2025) EndedAt: 2025-02-21 00:12:16 -0500 (Fri, 21 Feb 2025) EllapsedTime: 560.6 seconds RetCode: 0 Status: OK CheckDir: combi.Rcheck Warnings: 0