Package: combi Version: 1.19.0 Command: rm -rf combi.buildbin-libdir && mkdir combi.buildbin-libdir && E:\biocbuild\bbs-3.21-bioc\R\bin\R.exe CMD INSTALL --build --library=combi.buildbin-libdir combi_1.19.0.tar.gz StartedAt: 2025-02-21 07:50:35 -0500 (Fri, 21 Feb 2025) EndedAt: 2025-02-21 07:51:33 -0500 (Fri, 21 Feb 2025) EllapsedTime: 57.7 seconds RetCode: 0 Status: OK PackageFile: combi_1.19.0.zip PackageFileSize: 1.389 MiB