Package: combi Version: 1.19.0 Command: /home/biocbuild/bbs-3.21-bioc/R/bin/R CMD build --keep-empty-dirs --no-resave-data combi StartedAt: 2025-02-20 16:59:44 -0500 (Thu, 20 Feb 2025) EndedAt: 2025-02-20 17:01:33 -0500 (Thu, 20 Feb 2025) EllapsedTime: 109.1 seconds RetCode: 0 Status: OK PackageFile: combi_1.19.0.tar.gz PackageFileSize: 1.408 MiB