Package: combi Version: 1.19.0 Command: /Library/Frameworks/R.framework/Resources/bin/R CMD check --install=check:combi.install-out.txt --library=/Library/Frameworks/R.framework/Resources/library --no-vignettes --timings combi_1.19.0.tar.gz StartedAt: 2025-02-20 19:37:11 -0500 (Thu, 20 Feb 2025) EndedAt: 2025-02-20 19:51:59 -0500 (Thu, 20 Feb 2025) EllapsedTime: 888.3 seconds RetCode: 0 Status: OK CheckDir: combi.Rcheck Warnings: 0