Package: combi Version: 1.19.0 Command: /Library/Frameworks/R.framework/Resources/bin/R CMD build --keep-empty-dirs --no-resave-data combi StartedAt: 2025-02-20 16:17:39 -0500 (Thu, 20 Feb 2025) EndedAt: 2025-02-20 16:19:48 -0500 (Thu, 20 Feb 2025) EllapsedTime: 129.1 seconds RetCode: 0 Status: OK PackageFile: combi_1.19.0.tar.gz PackageFileSize: 1.496 MiB