Package: combi Version: 1.19.0 Command: /Library/Frameworks/R.framework/Resources/bin/R CMD INSTALL combi StartedAt: 2025-02-20 15:22:48 -0500 (Thu, 20 Feb 2025) EndedAt: 2025-02-20 15:23:00 -0500 (Thu, 20 Feb 2025) EllapsedTime: 12.3 seconds RetCode: 0 Status: OK