Package: combi Version: 1.19.0 Command: /Library/Frameworks/R.framework/Resources/bin/R CMD build --keep-empty-dirs --no-resave-data combi StartedAt: 2025-02-20 15:58:07 -0500 (Thu, 20 Feb 2025) EndedAt: 2025-02-20 15:59:41 -0500 (Thu, 20 Feb 2025) EllapsedTime: 94.0 seconds RetCode: 0 Status: OK PackageFile: combi_1.19.0.tar.gz PackageFileSize: 1.502 MiB