Package: comapr Version: 1.11.1 Command: /home/biocbuild/bbs-3.21-bioc/R/bin/R CMD INSTALL comapr StartedAt: 2025-02-20 16:03:00 -0500 (Thu, 20 Feb 2025) EndedAt: 2025-02-20 16:03:50 -0500 (Thu, 20 Feb 2025) EllapsedTime: 50.0 seconds RetCode: 0 Status: OK