Package: comapr Version: 1.11.1 Command: /home/biocbuild/bbs-3.21-bioc/R/bin/R CMD check --install=check:comapr.install-out.txt --library=/home/biocbuild/bbs-3.21-bioc/R/site-library --timings comapr_1.11.1.tar.gz StartedAt: 2025-02-20 20:57:24 -0500 (Thu, 20 Feb 2025) EndedAt: 2025-02-20 21:04:50 -0500 (Thu, 20 Feb 2025) EllapsedTime: 445.7 seconds RetCode: 0 Status: OK CheckDir: comapr.Rcheck Warnings: 0