Package: comapr Version: 1.11.1 Command: /Library/Frameworks/R.framework/Resources/bin/R CMD check --install=check:comapr.install-out.txt --library=/Library/Frameworks/R.framework/Resources/library --no-vignettes --timings comapr_1.11.1.tar.gz StartedAt: 2025-02-20 19:37:09 -0500 (Thu, 20 Feb 2025) EndedAt: 2025-02-20 19:44:03 -0500 (Thu, 20 Feb 2025) EllapsedTime: 414.2 seconds RetCode: 0 Status: OK CheckDir: comapr.Rcheck Warnings: 0