Package: comapr Version: 1.11.1 Command: /Library/Frameworks/R.framework/Resources/bin/R CMD build --keep-empty-dirs --no-resave-data comapr StartedAt: 2025-02-19 15:58:15 -0500 (Wed, 19 Feb 2025) EndedAt: 2025-02-19 15:58:48 -0500 (Wed, 19 Feb 2025) EllapsedTime: 33.4 seconds RetCode: 0 Status: OK PackageFile: comapr_1.11.1.tar.gz PackageFileSize: 968.5 KiB