Package: cola Version: 2.13.1 Command: /home/biocbuild/bbs-3.21-bioc/R/bin/R CMD build --keep-empty-dirs --no-resave-data cola StartedAt: 2025-02-19 16:43:50 -0500 (Wed, 19 Feb 2025) EndedAt: 2025-02-19 16:44:24 -0500 (Wed, 19 Feb 2025) EllapsedTime: 34.0 seconds RetCode: 0 Status: OK PackageFile: cola_2.13.1.tar.gz PackageFileSize: 3.658 MiB