Package: cogeqc Version: 1.11.0 Command: E:\biocbuild\bbs-3.21-bioc\R\bin\R.exe CMD INSTALL cogeqc StartedAt: 2025-02-20 15:45:48 -0500 (Thu, 20 Feb 2025) EndedAt: 2025-02-20 15:46:19 -0500 (Thu, 20 Feb 2025) EllapsedTime: 31.4 seconds RetCode: 0 Status: OK