Package: cogeqc Version: 1.11.0 Command: rm -rf cogeqc.buildbin-libdir && mkdir cogeqc.buildbin-libdir && E:\biocbuild\bbs-3.21-bioc\R\bin\R.exe CMD INSTALL --build --library=cogeqc.buildbin-libdir cogeqc_1.11.0.tar.gz StartedAt: 2025-02-21 07:50:23 -0500 (Fri, 21 Feb 2025) EndedAt: 2025-02-21 07:50:53 -0500 (Fri, 21 Feb 2025) EllapsedTime: 29.8 seconds RetCode: 0 Status: OK PackageFile: cogeqc_1.11.0.zip PackageFileSize: 2.426 MiB