Package: cogeqc Version: 1.11.0 Command: /Library/Frameworks/R.framework/Resources/bin/R CMD INSTALL cogeqc StartedAt: 2025-02-19 15:13:15 -0500 (Wed, 19 Feb 2025) EndedAt: 2025-02-19 15:13:21 -0500 (Wed, 19 Feb 2025) EllapsedTime: 6.5 seconds RetCode: 0 Status: OK