Package: cogena Version: 1.41.0 Command: E:\biocbuild\bbs-3.21-bioc\R\bin\R.exe CMD INSTALL cogena StartedAt: 2025-02-20 15:50:29 -0500 (Thu, 20 Feb 2025) EndedAt: 2025-02-20 15:51:11 -0500 (Thu, 20 Feb 2025) EllapsedTime: 42.0 seconds RetCode: 0 Status: OK