Package: cogena Version: 1.41.0 Command: rm -rf cogena.buildbin-libdir && mkdir cogena.buildbin-libdir && E:\biocbuild\bbs-3.21-bioc\R\bin\R.exe CMD INSTALL --build --library=cogena.buildbin-libdir cogena_1.41.0.tar.gz StartedAt: 2025-02-21 07:50:22 -0500 (Fri, 21 Feb 2025) EndedAt: 2025-02-21 07:51:12 -0500 (Fri, 21 Feb 2025) EllapsedTime: 49.6 seconds RetCode: 0 Status: OK PackageFile: cogena_1.41.0.zip PackageFileSize: 6.665 MiB