Package: cogena Version: 1.41.0 Command: /home/biocbuild/bbs-3.21-bioc/R/bin/R CMD INSTALL cogena StartedAt: 2025-02-20 15:23:13 -0500 (Thu, 20 Feb 2025) EndedAt: 2025-02-20 15:23:28 -0500 (Thu, 20 Feb 2025) EllapsedTime: 14.8 seconds RetCode: 0 Status: OK