Package: cogena Version: 1.41.0 Command: /Library/Frameworks/R.framework/Resources/bin/R CMD build --keep-empty-dirs --no-resave-data cogena StartedAt: 2025-02-20 16:17:11 -0500 (Thu, 20 Feb 2025) EndedAt: 2025-02-20 16:20:58 -0500 (Thu, 20 Feb 2025) EllapsedTime: 227.4 seconds RetCode: 0 Status: OK PackageFile: cogena_1.41.0.tar.gz PackageFileSize: 7.509 MiB