Package: cogena Version: 1.41.0 Command: /Library/Frameworks/R.framework/Resources/bin/R CMD INSTALL cogena StartedAt: 2025-02-20 15:18:48 -0500 (Thu, 20 Feb 2025) EndedAt: 2025-02-20 15:18:54 -0500 (Thu, 20 Feb 2025) EllapsedTime: 6.1 seconds RetCode: 0 Status: OK