Package: codelink Version: 1.75.0 Command: E:\biocbuild\bbs-3.21-bioc\R\bin\R.exe CMD INSTALL codelink StartedAt: 2025-02-20 15:44:44 -0500 (Thu, 20 Feb 2025) EndedAt: 2025-02-20 15:45:37 -0500 (Thu, 20 Feb 2025) EllapsedTime: 52.3 seconds RetCode: 0 Status: OK