Package: codelink Version: 1.75.0 Command: E:\biocbuild\bbs-3.21-bioc\R\bin\R.exe CMD check --no-multiarch --install=check:codelink.install-out.txt --library=E:\biocbuild\bbs-3.21-bioc\R\library --no-vignettes --timings codelink_1.75.0.tar.gz StartedAt: 2025-02-21 00:01:00 -0500 (Fri, 21 Feb 2025) EndedAt: 2025-02-21 00:03:22 -0500 (Fri, 21 Feb 2025) EllapsedTime: 141.9 seconds RetCode: 0 Status: OK CheckDir: codelink.Rcheck Warnings: 0