Package: codelink Version: 1.75.0 Command: chmod a+r codelink -R && E:\biocbuild\bbs-3.21-bioc\R\bin\R.exe CMD build --keep-empty-dirs --no-resave-data codelink StartedAt: 2025-02-20 18:01:10 -0500 (Thu, 20 Feb 2025) EndedAt: 2025-02-20 18:02:01 -0500 (Thu, 20 Feb 2025) EllapsedTime: 51.3 seconds RetCode: 0 Status: OK PackageFile: codelink_1.75.0.tar.gz PackageFileSize: 3.181 MiB