Package: codelink Version: 1.75.0 Command: /Library/Frameworks/R.framework/Resources/bin/R CMD build --keep-empty-dirs --no-resave-data codelink StartedAt: 2025-02-20 16:17:09 -0500 (Thu, 20 Feb 2025) EndedAt: 2025-02-20 16:17:52 -0500 (Thu, 20 Feb 2025) EllapsedTime: 42.3 seconds RetCode: 0 Status: OK PackageFile: codelink_1.75.0.tar.gz PackageFileSize: 3.181 MiB